BEGIN:VCALENDAR
VERSION:2.0
PRODID:-//Panico&#039;s Secondo - ECPv6.15.20//NONSGML v1.0//EN
CALSCALE:GREGORIAN
METHOD:PUBLISH
X-WR-CALNAME:Panico&#039;s Secondo
X-ORIGINAL-URL:https://panicossecondo.com
X-WR-CALDESC:Events for Panico&#039;s Secondo
REFRESH-INTERVAL;VALUE=DURATION:PT1H
X-Robots-Tag:noindex
X-PUBLISHED-TTL:PT1H
BEGIN:VTIMEZONE
TZID:UTC
BEGIN:STANDARD
TZOFFSETFROM:+0000
TZOFFSETTO:+0000
TZNAME:UTC
DTSTART:20250101T000000
END:STANDARD
END:VTIMEZONE
BEGIN:VEVENT
DTSTART;TZID=UTC:20260403T190000
DTEND;TZID=UTC:20260403T220000
DTSTAMP:20260425T013556
CREATED:20260328T181946Z
LAST-MODIFIED:20260328T182009Z
UID:5532-1775242800-1775253600@panicossecondo.com
SUMMARY:Maddie Hogan
DESCRIPTION:
URL:https://panicossecondo.com/the-calendar-event/maddie-hogan/
END:VEVENT
BEGIN:VEVENT
DTSTART;TZID=UTC:20260402T183000
DTEND;TZID=UTC:20260402T213000
DTSTAMP:20260425T013556
CREATED:20260328T181859Z
LAST-MODIFIED:20260328T182020Z
UID:5530-1775154600-1775165400@panicossecondo.com
SUMMARY:DJ Dinero
DESCRIPTION:
URL:https://panicossecondo.com/the-calendar-event/dj-dinero/
END:VEVENT
END:VCALENDAR