BEGIN:VCALENDAR
VERSION:2.0
PRODID:-//Panico&#039;s Secondo - ECPv6.15.20//NONSGML v1.0//EN
CALSCALE:GREGORIAN
METHOD:PUBLISH
X-ORIGINAL-URL:https://panicossecondo.com
X-WR-CALDESC:Events for Panico&#039;s Secondo
REFRESH-INTERVAL;VALUE=DURATION:PT1H
X-Robots-Tag:noindex
X-PUBLISHED-TTL:PT1H
BEGIN:VTIMEZONE
TZID:UTC
BEGIN:STANDARD
TZOFFSETFROM:+0000
TZOFFSETTO:+0000
TZNAME:UTC
DTSTART:20250101T000000
END:STANDARD
END:VTIMEZONE
BEGIN:VEVENT
DTSTART;TZID=UTC:20260423T183000
DTEND;TZID=UTC:20260423T213000
DTSTAMP:20260424T220438
CREATED:20260328T182526Z
LAST-MODIFIED:20260328T182526Z
UID:5554-1776969000-1776979800@panicossecondo.com
SUMMARY:DJ Dinero
DESCRIPTION:
URL:https://panicossecondo.com/the-calendar-event/dj-dinero-4/
END:VEVENT
END:VCALENDAR