BEGIN:VCALENDAR
VERSION:2.0
PRODID:-//Panico&#039;s Secondo - ECPv6.15.20//NONSGML v1.0//EN
CALSCALE:GREGORIAN
METHOD:PUBLISH
X-WR-CALNAME:Panico&#039;s Secondo
X-ORIGINAL-URL:https://panicossecondo.com
X-WR-CALDESC:Events for Panico&#039;s Secondo
REFRESH-INTERVAL;VALUE=DURATION:PT1H
X-Robots-Tag:noindex
X-PUBLISHED-TTL:PT1H
BEGIN:VTIMEZONE
TZID:UTC
BEGIN:STANDARD
TZOFFSETFROM:+0000
TZOFFSETTO:+0000
TZNAME:UTC
DTSTART:20250101T000000
END:STANDARD
END:VTIMEZONE
BEGIN:VEVENT
DTSTART;TZID=UTC:20260418T190000
DTEND;TZID=UTC:20260418T220000
DTSTAMP:20260424T220251
CREATED:20260328T182432Z
LAST-MODIFIED:20260328T182432Z
UID:5550-1776538800-1776549600@panicossecondo.com
SUMMARY:Giana Luna
DESCRIPTION:
URL:https://panicossecondo.com/the-calendar-event/giana-luna/
END:VEVENT
END:VCALENDAR